View In:
ArcGIS JavaScript
ArcGIS Online Map Viewer
ArcGIS Earth
Service Description: This image service is a topography hillshade with three times vertical exaggeration derived from LiDAR bare earth points. The LiDAR data sources were seperate acquisitions from county LiDAR acquisitions for Lake and Cook counties. The hillshade was created from an elevation model developed by IDNR Water Resources. Water edge breaklines were not available from these acquisitions and as a result water bodies area not flat in the topography hillshade.
Name: OWR/desplaines_river_lidar_be_hill3x
Description: This image service is a topography hillshade with three times vertical exaggeration derived from LiDAR bare earth points. The LiDAR data sources were seperate acquisitions from county LiDAR acquisitions for Lake and Cook counties. The hillshade was created from an elevation model developed by IDNR Water Resources. Water edge breaklines were not available from these acquisitions and as a result water bodies area not flat in the topography hillshade.
Single Fused Map Cache: false
Extent:
XMin: 1079364.0
YMin: 1872255.0
XMax: 1128789.0
YMax: 2123751.0
Spatial Reference: 3443
(3443)
LatestVCSWkid(0)
Initial Extent:
XMin: 1079364.0
YMin: 1872255.0
XMax: 1128789.0
YMax: 2123751.0
Spatial Reference: 3443
(3443)
LatestVCSWkid(0)
Full Extent:
XMin: 1079364.0
YMin: 1872255.0
XMax: 1128789.0
YMax: 2123751.0
Spatial Reference: 3443
(3443)
LatestVCSWkid(0)
Pixel Size X: 3.0
Pixel Size Y: 3.0
Band Count: 1
Pixel Type: U8
RasterFunction Infos: {"rasterFunctionInfos": [
{
"name": "None",
"description": "Make a Raster or Raster Dataset into a Function Raster Dataset.",
"help": ""
},
{
"name": "desplaines_hillshade",
"description": "A raster function template.",
"help": ""
}
]}
Mensuration Capabilities: Basic
Inspection Capabilities:
Has Histograms: true
Has Colormap: false
Has Multi Dimensions : false
Rendering Rule:
Min Scale: 0
Max Scale: 0
Copyright Text: IDNR Water Resources
Service Data Type: esriImageServiceDataTypeGeneric
Min Values: 0
Max Values: 254
Mean Values: 175.67077406781
Standard Deviation Values: 26.331775973064
Object ID Field:
Fields:
None
Default Mosaic Method: Center
Allowed Mosaic Methods:
SortField:
SortValue: null
Mosaic Operator: First
Default Compression Quality: 75
Default Resampling Method: Bicubic
Max Record Count: null
Max Image Height: 4100
Max Image Width: 15000
Max Download Image Count: null
Max Mosaic Image Count: null
Allow Raster Function: true
Allow Copy: true
Allow Analysis: true
Allow Compute TiePoints: false
Supports Statistics: false
Supports Advanced Queries: false
Use StandardizedQueries: true
Raster Type Infos:
Name: Raster Dataset
Description: Supports all ArcGIS Raster Datasets
Help:
Has Raster Attribute Table: true
Edit Fields Info: null
Ownership Based AccessControl For Rasters: null
Child Resources:
Info
Raster Attribute Table
Histograms
Statistics
Key Properties
Legend
Raster Function Infos
Supported Operations:
Export Image
Identify
Measure
Compute Histograms
Compute Statistics Histograms
Get Samples
Compute Class Statistics
Query Boundary
Compute Pixel Location
Compute Angles
Validate
Project