{
 "currentVersion": 11.4,
 "serviceDescription": "This image service is a topography hillshade with three times vertical exaggeration derived from LiDAR bare earth points. The LiDAR data sources were seperate acquisitions from county LiDAR acquisitions for Lake and Cook counties. The hillshade was created from an elevation model developed by IDNR Water Resources. Water edge breaklines were not available from these acquisitions and as a result water bodies area not flat in the topography hillshade.",
 "name": "OWR/desplaines_river_lidar_be_hill3x",
 "description": "This image service is a topography hillshade with three times vertical exaggeration derived from LiDAR bare earth points. The LiDAR data sources were seperate acquisitions from county LiDAR acquisitions for Lake and Cook counties. The hillshade was created from an elevation model developed by IDNR Water Resources. Water edge breaklines were not available from these acquisitions and as a result water bodies area not flat in the topography hillshade.",
 "extent": {
  "xmin": 1079364,
  "ymin": 1872255,
  "xmax": 1128789,
  "ymax": 2123751,
  "spatialReference": {
   "wkid": 3443,
   "latestWkid": 3443
  }
 },
 "initialExtent": {
  "xmin": 1079364,
  "ymin": 1872255,
  "xmax": 1128789,
  "ymax": 2123751,
  "spatialReference": {
   "wkid": 3443,
   "latestWkid": 3443
  }
 },
 "fullExtent": {
  "xmin": 1079364,
  "ymin": 1872255,
  "xmax": 1128789,
  "ymax": 2123751,
  "spatialReference": {
   "wkid": 3443,
   "latestWkid": 3443
  }
 },
 "sortableFields": "",
 "bandCount": 1,
 "pixelType": "U8",
 "minValues": [
  0
 ],
 "maxValues": [
  254
 ],
 "meanValues": [
  175.67077406781
 ],
 "stdvValues": [
  26.331775973064
 ],
 "hasMultidimensions": false,
 "pixelSizeX": 3,
 "pixelSizeY": 3,
 "meanPixelSize": 0.9144018288036577,
 "datasetFormat": "TIFF",
 "uncompressedSize": 1381132200,
 "blockWidth": 128,
 "blockHeight": 128,
 "compressionType": "LZW",
 "bandNames": [
  "Band_1"
 ],
 "allowCopy": true,
 "allowAnalysis": true,
 "itemAccess": false,
 "inspectionCapabilities": "",
 "noDataValue": 255,
 "noDataValues": [
  255
 ],
 "minPixelSize": 0,
 "maxPixelSize": 0,
 "copyrightText": "IDNR Water Resources",
 "serviceDataType": "esriImageServiceDataTypeGeneric",
 "serviceSourceType": "esriImageServiceSourceTypeDataset",
 "objectIdField": "",
 "fields": [],
 "capabilities": "Mensuration,Image,Metadata",
 "defaultMosaicMethod": "Center",
 "allowedMosaicMethods": "",
 "sortField": "",
 "sortValue": null,
 "sortAscending": true,
 "mosaicOperator": "First",
 "defaultCompressionQuality": 75,
 "defaultResamplingMethod": "Bicubic",
 "maxImageHeight": 4100,
 "maxImageWidth": 15000,
 "allowRasterFunction": true,
 "rasterFunctionInfos": [
  {
   "name": "None",
   "description": "Make a Raster or Raster Dataset into a Function Raster Dataset.",
   "help": ""
  },
  {
   "name": "desplaines_hillshade",
   "description": "A raster function template.",
   "help": ""
  }
 ],
 "rasterTypeInfos": [
  {
   "name": "Raster Dataset",
   "description": "Supports all ArcGIS Raster Datasets",
   "help": ""
  }
 ],
 "mensurationCapabilities": "Basic",
 "hasHistograms": true,
 "hasColormap": false,
 "hasRasterAttributeTable": true,
 "minScale": 0,
 "maxScale": 0,
 "exportTilesAllowed": false,
 "supportsStatistics": false,
 "supportsAdvancedQueries": false,
 "editFieldsInfo": null,
 "ownershipBasedAccessControlForRasters": null,
 "allowComputeTiePoints": false,
 "useStandardizedQueries": true,
 "advancedQueryCapabilities": {
  "useStandardizedQueries": true,
  "supportsStatistics": false,
  "supportsOrderBy": false,
  "supportsDistinct": false,
  "supportsPagination": false
 },
 "spatialReference": {
  "wkid": 3443,
  "latestWkid": 3443
 }
}
