View In:
ArcGIS JavaScript
ArcGIS Online Map Viewer
ArcGIS Earth
Service Description: IAPMProbReclass
Name: IAPMProbReclass
Description:
Single Fused Map Cache: false
Extent:
XMin: 618100.476942042
YMin: 4092340.9542970974
XMax: 984670.476942042
YMax: 4718920.954297097
Spatial Reference: 26915
(26915)
LatestVCSWkid(0)
Initial Extent:
XMin: 618100.476942042
YMin: 4092340.9542970974
XMax: 984670.476942042
YMax: 4718920.954297097
Spatial Reference: 26915
(26915)
LatestVCSWkid(0)
Full Extent:
XMin: 618100.476942042
YMin: 4092340.9542970974
XMax: 984670.476942042
YMax: 4718920.954297097
Spatial Reference: 26915
(26915)
LatestVCSWkid(0)
Pixel Size X: 90.0
Pixel Size Y: 90.0
Band Count: 1
Pixel Type: U4
RasterFunction Infos: {"rasterFunctionInfos": [{
"name": "None",
"description": "",
"help": ""
}]}
Mensuration Capabilities: Basic
Inspection Capabilities:
Has Histograms: true
Has Colormap: false
Has Multi Dimensions : false
Rendering Rule:
Min Scale: 0
Max Scale: 0
Copyright Text:
Service Data Type: esriImageServiceDataTypeGeneric
Min Values: 1
Max Values: 4
Mean Values: 1.9077976887104
Standard Deviation Values: 1.0184558810301
Object ID Field:
Fields:
None
Default Mosaic Method: Center
Allowed Mosaic Methods:
SortField:
SortValue: null
Mosaic Operator: First
Default Compression Quality: 75
Default Resampling Method: Bilinear
Max Record Count: null
Max Image Height: 4100
Max Image Width: 15000
Max Download Image Count: null
Max Mosaic Image Count: null
Allow Raster Function: true
Allow Copy: true
Allow Analysis: true
Allow Compute TiePoints: false
Supports Statistics: false
Supports Advanced Queries: false
Use StandardizedQueries: true
Raster Type Infos:
Name: Raster Dataset
Description: Supports all ArcGIS Raster Datasets
Help:
Has Raster Attribute Table: true
Edit Fields Info: null
Ownership Based AccessControl For Rasters: null
Child Resources:
Info
Raster Attribute Table
Histograms
Statistics
Key Properties
Legend
Raster Function Infos
Supported Operations:
Export Image
Identify
Measure
Compute Histograms
Compute Statistics Histograms
Get Samples
Compute Class Statistics
Query Boundary
Compute Pixel Location
Compute Angles
Validate
Project